BEGIN:VCALENDAR
VERSION:2.0
PRODID:-//NUDI WEAR - ECPv6.15.18//NONSGML v1.0//EN
CALSCALE:GREGORIAN
METHOD:PUBLISH
X-WR-CALNAME:NUDI WEAR
X-ORIGINAL-URL:https://nudiwear.com
X-WR-CALDESC:Events for NUDI WEAR
REFRESH-INTERVAL;VALUE=DURATION:PT1H
X-Robots-Tag:noindex
X-PUBLISHED-TTL:PT1H
BEGIN:VTIMEZONE
TZID:Pacific/Honolulu
BEGIN:STANDARD
TZOFFSETFROM:-1000
TZOFFSETTO:-1000
TZNAME:HST
DTSTART:20240101T000000
END:STANDARD
END:VTIMEZONE
BEGIN:VEVENT
DTSTART;TZID=Pacific/Honolulu:20251213T083000
DTEND;TZID=Pacific/Honolulu:20251213T120000
DTSTAMP:20260422T062038
CREATED:20251008T151156Z
LAST-MODIFIED:20251008T151254Z
UID:32886-1765614600-1765627200@nudiwear.com
SUMMARY:Point Panic Cleanup
DESCRIPTION:Join us on Saturday\, December 13th from 830am to 12pm for an underwater cleanup at Point Panic in Honolulu\, HI. SCUBA divers\, freedivers\, and land support welcomed! Must be SCUBA certified and bring your own gear and tank to dive.\n\nThis dive site always has lots of debris and brings in some unusual items. A briefing will be provided for people who have not been to this site before but experienced buddy groups are free to dive independently.\n\nWe will have some dive bags and cutting tools available but please bring them if you have them! A tarp will be set up near the parking lot for the collection of the debris and will be accounted for before 12pm.
URL:https://nudiwear.com/event/point-panic-cleanup-19/
LOCATION:Point Panic\, 21060001\, Honolulu\, HI\, 96813\, United States
ATTACH;FMTTYPE=image/png:https://nudiwear.com/wp-content/uploads/2022/10/Adopt-The-Blue-3x2-smaller-file.png
END:VEVENT
BEGIN:VEVENT
DTSTART;TZID=Pacific/Honolulu:20260418T080000
DTEND;TZID=Pacific/Honolulu:20260418T120000
DTSTAMP:20260422T062038
CREATED:20260402T013324Z
LAST-MODIFIED:20260402T013324Z
UID:33094-1776499200-1776513600@nudiwear.com
SUMMARY:Annual Dive for Earth Day Cleanup at Magic Island
DESCRIPTION:Join us in celebrating our planet at the 4th annual Dive for Earth Day Cleanup at Magic Island! Meet us on the Waikiki side of the lagoon for an underwater and park cleanup from 8:00am – 12:00pm. Scuba divers\, freedivers\, and land support needed. Scuba divers must be certified and bring their own gear and tank to dive. Mesh bags\, cutting tools\, gloves\, and buckets will be provided in limited supply so bring your own if you have it!
URL:https://nudiwear.com/event/annual-dive-for-earth-day-cleanup-at-magic-island/
LOCATION:Magic Island\, 1201 Ala Moana Blvd\, Honolulu\, HI\, United States
ATTACH;FMTTYPE=image/png:https://nudiwear.com/wp-content/uploads/2026/04/Earth-Day-Cleanup-at-Magic-Island-2026.png
END:VEVENT
END:VCALENDAR