BEGIN:VCALENDAR
VERSION:2.0
PRODID:-//NUDI WEAR - ECPv6.15.18//NONSGML v1.0//EN
CALSCALE:GREGORIAN
METHOD:PUBLISH
X-WR-CALNAME:NUDI WEAR
X-ORIGINAL-URL:https://nudiwear.com
X-WR-CALDESC:Events for NUDI WEAR
REFRESH-INTERVAL;VALUE=DURATION:PT1H
X-Robots-Tag:noindex
X-PUBLISHED-TTL:PT1H
BEGIN:VTIMEZONE
TZID:Pacific/Honolulu
BEGIN:STANDARD
TZOFFSETFROM:-1000
TZOFFSETTO:-1000
TZNAME:HST
DTSTART:20190101T000000
END:STANDARD
END:VTIMEZONE
BEGIN:VEVENT
DTSTART;TZID=Pacific/Honolulu:20200419T090000
DTEND;TZID=Pacific/Honolulu:20200419T103000
DTSTAMP:20260423T214232
CREATED:20200419T224517Z
LAST-MODIFIED:20200419T224517Z
UID:2958-1587286800-1587292200@nudiwear.com
SUMMARY:Project AWARE Coral Reef Conservation Specialty Online Class
DESCRIPTION:We hope you are staying safe and healthy during this time of uncertainty and world-wide pandemic. With the recent events\, we have decided to place our monthly cleanups on hold. \nIf you feel like your gills are drying out like we do\, there are still some ways to learn how to make a positive impact on the waters that surround us while we wait to get back into the water safely. \nWe are excited to offer the PADI Project AWARE Coral Reef Conservation Specialty online! This course describes how coral reefs function and why they are so important. \nClasses are free for anyone to attend or you can choose to pay $50.00 for Certification. The fee covers processing fees and a $25.00 donation to Project AWARE. \nIf you wish to take the class but the times do not work out for you\, please message us for other options. \nTime: Apr 19\, 2020 09:00 AM Hawaii Standard Time \nJoin Zoom Meeting by clicking link below at designated time:\nhttps://us02web.zoom.us/j/81898019178 \nMeeting ID: 818 9801 9178
URL:https://nudiwear.com/event/project-aware-coral-reef-conservation-specialty-online-class-3/
LOCATION:HI
ATTACH;FMTTYPE=image/jpeg:https://nudiwear.com/wp-content/uploads/2020/04/20191108-8743-400x500-3.jpg
END:VEVENT
BEGIN:VEVENT
DTSTART;TZID=Pacific/Honolulu:20200415T113000
DTEND;TZID=Pacific/Honolulu:20200415T130000
DTSTAMP:20260423T214232
CREATED:20200412T033810Z
LAST-MODIFIED:20200412T035224Z
UID:2924-1586950200-1586955600@nudiwear.com
SUMMARY:Project AWARE Coral Reef Conservation Specialty Online Class
DESCRIPTION:We hope you are staying safe and healthy during this time of uncertainty and world-wide pandemic. We wish that this time spent with family and stepping back from work and all of life’s distractions will help us gain a different perspective on life and change us for the better.\n\n\n \n\n\nIf you feel like your gills are drying out like we do\, there are still some ways to learn how to make a positive impact on the waters that surround us while we wait to get back into the water safely.\n\n\n \n\n\nWe are excited to offer the Project AWARE Coral Reef Conservation Specialty online! This course describes how coral reefs function and why they are so important.\n\n\n \n\n\nClasses are free for anyone to attend or you can choose to pay $50.00 for Certification. The fee covers processing fees and a $25.00 donation to Project AWARE. \n\n\n \n\n\nIf you wish to take the class but the times do not work out for you\, please message us for other options.\n\n\n \n\n\n \n\n\n \n\n\nJoin Zoom Meeting by clicking this link on April 15th\, 2020 at 11:30 AM (HST):\n\n\n\nhttps://us04web.zoom.us/j/919097109\n\n\n \n\n\nMeeting ID: 919 097 109
URL:https://nudiwear.com/event/project-aware-coral-reef-conservation-specialty-online-class/
LOCATION:HI
ATTACH;FMTTYPE=image/jpeg:https://nudiwear.com/wp-content/uploads/2020/04/20191108-8743-400x500-3.jpg
END:VEVENT
BEGIN:VEVENT
DTSTART;TZID=Pacific/Honolulu:20200415T093000
DTEND;TZID=Pacific/Honolulu:20200415T110000
DTSTAMP:20260423T214232
CREATED:20200412T034336Z
LAST-MODIFIED:20200412T034336Z
UID:2926-1586943000-1586948400@nudiwear.com
SUMMARY:Project AWARE Specialty Online Class
DESCRIPTION:We hope you are staying safe and healthy during this time of uncertainty and world-wide pandemic. We wish that this time spent with family and stepping back from work and all of life’s distractions will help us gain a different perspective on life and change us for the better.\n\n\n \n\n\nIf you feel like your gills are drying out like we do\, there are still some ways to learn how to make a positive impact on the waters that surround us while we wait to get back in the water safely.\n\n\n \n\n\nWe are excited to offer the Project AWARE Specialty online! This course offers information and encouragement to help individuals take responsibility for ocean health. \n\n\n \n\n\nClasses are free for anyone to attend or you can choose to pay $50.00 for Certification. The fee covers processing fees and a $25 donation to Project AWARE. \n\n\n \n\n\nIf you wish to take the class but the times do not work out for you\, please message us for other options.\n\n\n \n\n\n \n\n\nJoin Zoom Meeting by clicking the link below on April 15th\, 2020 at 09:30 AM (HST):\n\n\n\nhttps://us04web.zoom.us/j/228040313?pwd=SkI2WFNYMFY5Q0EwMHBJWExsMFNKQT09\n\n\n \n\n\nMeeting ID: 228 040 313
URL:https://nudiwear.com/event/project-aware-specialty-online-class/
LOCATION:HI
ATTACH;FMTTYPE=image/jpeg:https://nudiwear.com/wp-content/uploads/2020/03/received_2935562439801935-2.jpeg
END:VEVENT
BEGIN:VEVENT
DTSTART;TZID=Pacific/Honolulu:20200314T090000
DTEND;TZID=Pacific/Honolulu:20200314T120000
DTSTAMP:20260423T214232
CREATED:20200320T223406Z
LAST-MODIFIED:20200320T223406Z
UID:2804-1584176400-1584187200@nudiwear.com
SUMMARY:Underwater Cleanup With NudiWear
DESCRIPTION:Join us on Saturday\, March 14th at Point Panic (Honolulu\, HI) from 9am to 12pm to help clean up our ocean! Must be scuba certified and bring your own gear. We will provide mesh bags\, cutting tools\, and water (bring your own reusable water bottle). This site can bring in some pretty unique items. We have removed couch cushions\, anchors\, multiple billiards trophies\, car/boat radios\, an iron\, a faucet\, and lots of fishing line and hooks on previous dives. This site has so much garbage we have decided to adopt it and make it our monthly cleanup location! This month we will be offering the AWARE Shark Conservation course for those interested for $40 ($25 processing fee\, $15 donation to Project Aware). There is also a lot of garbage around the park so non-divers can come help too!w We look forward to you joining the Nudi Dive Club!
URL:https://nudiwear.com/event/underwater-cleanup-with-nudiwear/
LOCATION:HI
ATTACH;FMTTYPE=image/jpeg:https://nudiwear.com/wp-content/uploads/2020/03/20200314_112033-2-scaled.jpg
END:VEVENT
BEGIN:VEVENT
DTSTART;TZID=Pacific/Honolulu:20200215T090000
DTEND;TZID=Pacific/Honolulu:20200215T120000
DTSTAMP:20260423T214232
CREATED:20200320T225705Z
LAST-MODIFIED:20200320T225705Z
UID:2833-1581757200-1581768000@nudiwear.com
SUMMARY:Koloa Landing On Kauai Underwater Cleanup
DESCRIPTION:Join us on Saturday\, February 15th as we team up with the amazing staff at Seasport Divers to host a land and underwater cleanup at one of Kauai’s favorite dive sites\, Koloa Landing! Please call Seasport divers to register and reserve gear (808) 742-9303. We hope to see you there!
URL:https://nudiwear.com/event/koloa-landing-on-kauai-underwater-cleanup/
LOCATION:HI
ATTACH;FMTTYPE=image/jpeg:https://nudiwear.com/wp-content/uploads/2020/03/83012521_10157049465860036_8975216454353813504_n.jpg
END:VEVENT
BEGIN:VEVENT
DTSTART;TZID=Pacific/Honolulu:20200201T090000
DTEND;TZID=Pacific/Honolulu:20200201T120000
DTSTAMP:20260423T214232
CREATED:20200320T223940Z
LAST-MODIFIED:20200320T223940Z
UID:2825-1580547600-1580558400@nudiwear.com
SUMMARY:Underwater Cleanup with Nudi Wear
DESCRIPTION:Join us on Saturday\, February 1st at Point Panic (Honolulu\, HI) at 9am to help clean up our ocean! Must be scuba certified and bring your own gear. We will provide mesh bags\, cutting tools\, and water (bring your own reusable water bottle). This site can bring in some pretty unique items. We have removed couch cushions\, anchors\, multiple billiards trophies\, an iron\, a faucet\, and lots of fishing line and hooks on previous dives. Just last month we removed almost 50lbs of garbage and there was a lot more to be removed! We will also be offering the PADI Project Aware Specialty certification for those interested for $40 ($25 processing fee\, $15 donation to Project Aware). This is different from the Dive Against Debris offered last month. Show up 30 minutes early if you plan to do the certification. We look forward to you joining the Nudi Dive Club!
URL:https://nudiwear.com/event/underwater-cleanup-with-nudi-wear/
LOCATION:Point Panic\, 21060001\, Honolulu\, HI\, 96813\, United States
ATTACH;FMTTYPE=image/jpeg:https://nudiwear.com/wp-content/uploads/2020/03/20200201_114059-2-scaled.jpg
END:VEVENT
BEGIN:VEVENT
DTSTART;TZID=Pacific/Honolulu:20200118T090000
DTEND;TZID=Pacific/Honolulu:20200118T120000
DTSTAMP:20260423T214232
CREATED:20200320T230237Z
LAST-MODIFIED:20200320T230302Z
UID:2840-1579338000-1579348800@nudiwear.com
SUMMARY:Beach Cleanup at Waimanalo Beach Park
DESCRIPTION:As many of you know\, the strong tradewinds blowing over the last few weeks have covered the windward side beaches with garbage\, including an overwhelming amount of microplastics.\nNUDIWEAR will be holding a beach cleanup at Waimanalo Beach Park on Saturday the 18th from 9am to 12pm. We will have some sand sifters but encourage you to bring any old kitchen strainers\, kids beach sifters\, or anything else that might work to separate out plastics. We also suggest gloves. We will provide garbage bags and drinking water\, please bring your own reusable bottle!\nFamily friendly. Bathrooms and showers available on site.
URL:https://nudiwear.com/event/beach-cleanup-at-waimanalo-beach-park/
LOCATION:HI
ATTACH;FMTTYPE=image/jpeg:https://nudiwear.com/wp-content/uploads/2020/03/DSC_0577-2-scaled.jpg
END:VEVENT
BEGIN:VEVENT
DTSTART;TZID=Pacific/Honolulu:20200104T090000
DTEND;TZID=Pacific/Honolulu:20200104T120000
DTSTAMP:20260423T214232
CREATED:20200320T224312Z
LAST-MODIFIED:20200320T224312Z
UID:2830-1578128400-1578139200@nudiwear.com
SUMMARY:Underwater Cleanup with Nudi Wear
DESCRIPTION:Join us on Saturday\, January 4th at Point Panic (Honolulu\, HI) at 9am to help clean up our ocean! Must be scuba certified and bring your own gear. We will provide mesh bags\, cutting tools\, snacks\, and water (bring your own reusable water bottle). Prizes will be given for most garbage removed\, most unusual find\, and more! Be one of the first people to get your hands on Nudi Wear. This site can bring in some pretty unique items. We have removed couch cushions\, anchors\, a bowling trophy\, and lots of fishing line and hooks. We will also be offering the PADI Project Aware: Dive Against Debris specialty certification course if you’re interested ($30 processing fee). We look forward to you joining the Nudi Dive Club!
URL:https://nudiwear.com/event/underwater-cleanup-with-nudi-wear-2/
LOCATION:Point Panic\, 21060001\, Honolulu\, HI\, 96813\, United States
ATTACH;FMTTYPE=image/jpeg:https://nudiwear.com/wp-content/uploads/2020/03/received_2935562439801935-2.jpeg
END:VEVENT
END:VCALENDAR