BEGIN:VCALENDAR
VERSION:2.0
PRODID:-//NUDI WEAR - ECPv6.15.18//NONSGML v1.0//EN
CALSCALE:GREGORIAN
METHOD:PUBLISH
X-WR-CALNAME:NUDI WEAR
X-ORIGINAL-URL:https://nudiwear.com
X-WR-CALDESC:Events for NUDI WEAR
REFRESH-INTERVAL;VALUE=DURATION:PT1H
X-Robots-Tag:noindex
X-PUBLISHED-TTL:PT1H
BEGIN:VTIMEZONE
TZID:Pacific/Honolulu
BEGIN:STANDARD
TZOFFSETFROM:-1000
TZOFFSETTO:-1000
TZNAME:HST
DTSTART:20190101T000000
END:STANDARD
END:VTIMEZONE
BEGIN:VEVENT
DTSTART;TZID=Pacific/Honolulu:20201121T083000
DTEND;TZID=Pacific/Honolulu:20201121T120000
DTSTAMP:20260420T084438
CREATED:20201118T013237Z
LAST-MODIFIED:20201118T013237Z
UID:3570-1605947400-1605960000@nudiwear.com
SUMMARY:Underwater Cleanup at Point Panic
DESCRIPTION:Aloha! Join us on Saturday\, Nov 21st from 830am to 12pm for an underwater cleanup dive at Point Panic in Honolulu\, HI. This dive site always has lots of debris and brings in some unusual items. Also\, a special prize give away from Ruckus Sportfishing and Diving will go home with one lucky winner! Many Mahalos to the Ruckus Crew!\n\nA briefing will be provided for people who have not been to this site before but experienced buddy groups are free to just go dive independently.\nWe will have some dive bags and cutting tools available but please bring them if you have them! A tarp will be set up near the parking lot for the collection of the debris and will be accounted for before 12pm.\n\nWe ask everyone to be respectful by socially distancing and wearing a mask when not geared up. You must be scuba certified and bring your own gear and tanks. We hope to see you there!\n 
URL:https://nudiwear.com/event/underwater-cleanup-at-point-panic/
LOCATION:Point Panic\, 21060001\, Honolulu\, HI\, 96813\, United States
ATTACH;FMTTYPE=image/jpeg:https://nudiwear.com/wp-content/uploads/2020/03/received_1653060554836776-2-scaled.jpeg
END:VEVENT
END:VCALENDAR